BEGIN:VCALENDAR
VERSION:2.0
PRODID:-//Lone Star Business Builders - ECPv6.15.20//NONSGML v1.0//EN
CALSCALE:GREGORIAN
METHOD:PUBLISH
X-WR-CALNAME:Lone Star Business Builders
X-ORIGINAL-URL:https://lsbb.org
X-WR-CALDESC:Events for Lone Star Business Builders
REFRESH-INTERVAL;VALUE=DURATION:PT1H
X-Robots-Tag:noindex
X-PUBLISHED-TTL:PT1H
BEGIN:VTIMEZONE
TZID:America/Chicago
BEGIN:DAYLIGHT
TZOFFSETFROM:-0600
TZOFFSETTO:-0500
TZNAME:CDT
DTSTART:20240310T080000
END:DAYLIGHT
BEGIN:STANDARD
TZOFFSETFROM:-0500
TZOFFSETTO:-0600
TZNAME:CST
DTSTART:20241103T070000
END:STANDARD
BEGIN:DAYLIGHT
TZOFFSETFROM:-0600
TZOFFSETTO:-0500
TZNAME:CDT
DTSTART:20250309T080000
END:DAYLIGHT
BEGIN:STANDARD
TZOFFSETFROM:-0500
TZOFFSETTO:-0600
TZNAME:CST
DTSTART:20251102T070000
END:STANDARD
BEGIN:DAYLIGHT
TZOFFSETFROM:-0600
TZOFFSETTO:-0500
TZNAME:CDT
DTSTART:20260308T080000
END:DAYLIGHT
BEGIN:STANDARD
TZOFFSETFROM:-0500
TZOFFSETTO:-0600
TZNAME:CST
DTSTART:20261101T070000
END:STANDARD
BEGIN:DAYLIGHT
TZOFFSETFROM:-0600
TZOFFSETTO:-0500
TZNAME:CDT
DTSTART:20270314T080000
END:DAYLIGHT
BEGIN:STANDARD
TZOFFSETFROM:-0500
TZOFFSETTO:-0600
TZNAME:CST
DTSTART:20271107T070000
END:STANDARD
END:VTIMEZONE
BEGIN:VEVENT
DTSTART;TZID=America/Chicago:20260415T080000
DTEND;TZID=America/Chicago:20260415T090000
DTSTAMP:20260419T035906
CREATED:20260415T122729Z
LAST-MODIFIED:20260415T122729Z
UID:4052-1776240000-1776243600@lsbb.org
SUMMARY:Weekly Meeting - April 15
DESCRIPTION:Hot seat – Gary Upchurch
URL:https://lsbb.org/event/weekly-meeting-april-15/
LOCATION:Rudy’s Country Store and Bar-B-Q\, 1790 N Central Expy\, Allen\, TX\, 75002\, United States
CATEGORIES:Hot Seat,Weekly
ATTACH;FMTTYPE=image/webp:https://lsbb.org/wp-content/uploads/2026/03/pix-2026-03-11-bmeeting.webp
END:VEVENT
BEGIN:VEVENT
DTSTART;TZID=America/Chicago:20260318T080000
DTEND;TZID=America/Chicago:20260318T090000
DTSTAMP:20260419T035906
CREATED:20260312T131446Z
LAST-MODIFIED:20260312T131446Z
UID:4015-1773820800-1773824400@lsbb.org
SUMMARY:Weekly Meeting - Mar 18
DESCRIPTION:Xcellence Fitness – hot seat for Kenneth Johnson
URL:https://lsbb.org/event/weekly-meeting-mar-18/
LOCATION:Rudy’s Country Store and Bar-B-Q\, 1790 N Central Expy\, Allen\, TX\, 75002\, United States
CATEGORIES:Hot Seat,Weekly
ATTACH;FMTTYPE=image/webp:https://lsbb.org/wp-content/uploads/2026/03/pix-2026-03-11-ameeting.webp
END:VEVENT
BEGIN:VEVENT
DTSTART;TZID=America/Chicago:20251015T080000
DTEND;TZID=America/Chicago:20251015T090000
DTSTAMP:20260419T035906
CREATED:20251015T122712Z
LAST-MODIFIED:20251015T122712Z
UID:3063-1760515200-1760518800@lsbb.org
SUMMARY:Weekly Meeting - Oct 15
DESCRIPTION:BSA Design Group on the Hot Seat – Vanessa W.
URL:https://lsbb.org/event/weekly-meeting-oct-15/
LOCATION:Rudy’s Country Store and Bar-B-Q\, 1790 N Central Expy\, Allen\, TX\, 75002\, United States
CATEGORIES:Hot Seat,Weekly
ATTACH;FMTTYPE=image/jpeg:https://lsbb.org/wp-content/uploads/2025/09/meeting-at-rudys-scaled.jpg
END:VEVENT
BEGIN:VEVENT
DTSTART;TZID=America/Chicago:20250917T080000
DTEND;TZID=America/Chicago:20250917T090000
DTSTAMP:20260419T035906
CREATED:20250917T123919Z
LAST-MODIFIED:20250917T123919Z
UID:2078-1758096000-1758099600@lsbb.org
SUMMARY:Weekly Meeting - Sept 17
DESCRIPTION:Karl Kuptz – American Entitlements
URL:https://lsbb.org/event/weekly-meeting-sept-17/
LOCATION:Rudy’s Country Store and Bar-B-Q\, 1790 N Central Expy\, Allen\, TX\, 75002\, United States
CATEGORIES:Hot Seat,Weekly
ATTACH;FMTTYPE=image/jpeg:https://lsbb.org/wp-content/uploads/2025/09/meeting-at-rudys-scaled.jpg
END:VEVENT
BEGIN:VEVENT
DTSTART;TZID=America/Chicago:20250618T080000
DTEND;TZID=America/Chicago:20250618T090000
DTSTAMP:20260419T035906
CREATED:20250611T164650Z
LAST-MODIFIED:20250611T164650Z
UID:2051-1750233600-1750237200@lsbb.org
SUMMARY:Weekly Meeting June 18
DESCRIPTION:Hot seat – Jim Barth
URL:https://lsbb.org/event/weekly-meeting-june-18/
LOCATION:Rudy’s Country Store and Bar-B-Q\, 1790 N Central Expy\, Allen\, TX\, 75002\, United States
CATEGORIES:Hot Seat,Weekly
ATTACH;FMTTYPE=image/jpeg:https://lsbb.org/wp-content/uploads/2025/06/meeting-11062025.jpg
END:VEVENT
BEGIN:VEVENT
DTSTART;TZID=America/Chicago:20250319T080000
DTEND;TZID=America/Chicago:20250319T090000
DTSTAMP:20260419T035906
CREATED:20250112T170738Z
LAST-MODIFIED:20250306T162032Z
UID:1522-1742371200-1742374800@lsbb.org
SUMMARY:Weekly Meeting Mar 19
DESCRIPTION:Hot Seat for Dobson Services Solutions
URL:https://lsbb.org/event/3rd-weekly-meeting-mar/
LOCATION:Rudy’s Country Store and Bar-B-Q\, 1790 N Central Expy\, Allen\, TX\, 75002\, United States
CATEGORIES:Hot Seat,Weekly
ATTACH;FMTTYPE=image/jpeg:https://lsbb.org/wp-content/uploads/2024/12/IMG_20241120_075525-scaled-e1734624165303.jpg
END:VEVENT
END:VCALENDAR