BEGIN:VCALENDAR
VERSION:2.0
PRODID:-//Lone Star Business Builders - ECPv6.15.20//NONSGML v1.0//EN
CALSCALE:GREGORIAN
METHOD:PUBLISH
X-ORIGINAL-URL:https://lsbb.org
X-WR-CALDESC:Events for Lone Star Business Builders
REFRESH-INTERVAL;VALUE=DURATION:PT1H
X-Robots-Tag:noindex
X-PUBLISHED-TTL:PT1H
BEGIN:VTIMEZONE
TZID:America/Chicago
BEGIN:DAYLIGHT
TZOFFSETFROM:-0600
TZOFFSETTO:-0500
TZNAME:CDT
DTSTART:20240310T080000
END:DAYLIGHT
BEGIN:STANDARD
TZOFFSETFROM:-0500
TZOFFSETTO:-0600
TZNAME:CST
DTSTART:20241103T070000
END:STANDARD
BEGIN:DAYLIGHT
TZOFFSETFROM:-0600
TZOFFSETTO:-0500
TZNAME:CDT
DTSTART:20250309T080000
END:DAYLIGHT
BEGIN:STANDARD
TZOFFSETFROM:-0500
TZOFFSETTO:-0600
TZNAME:CST
DTSTART:20251102T070000
END:STANDARD
BEGIN:DAYLIGHT
TZOFFSETFROM:-0600
TZOFFSETTO:-0500
TZNAME:CDT
DTSTART:20260308T080000
END:DAYLIGHT
BEGIN:STANDARD
TZOFFSETFROM:-0500
TZOFFSETTO:-0600
TZNAME:CST
DTSTART:20261101T070000
END:STANDARD
BEGIN:DAYLIGHT
TZOFFSETFROM:-0600
TZOFFSETTO:-0500
TZNAME:CDT
DTSTART:20270314T080000
END:DAYLIGHT
BEGIN:STANDARD
TZOFFSETFROM:-0500
TZOFFSETTO:-0600
TZNAME:CST
DTSTART:20271107T070000
END:STANDARD
END:VTIMEZONE
BEGIN:VEVENT
DTSTART;TZID=America/Chicago:20260325T080000
DTEND;TZID=America/Chicago:20260325T090000
DTSTAMP:20260419T105656
CREATED:20260312T143302Z
LAST-MODIFIED:20260312T143302Z
UID:4029-1774425600-1774429200@lsbb.org
SUMMARY:Weekly Meeting - Mar 25
DESCRIPTION:Training\nDerrel & Kris give practical uses for AI in your business.
URL:https://lsbb.org/event/weekly-meeting-mar-25/
LOCATION:Rudy’s Country Store and Bar-B-Q\, 1790 N Central Expy\, Allen\, TX\, 75002\, United States
CATEGORIES:Education,Weekly
ATTACH;FMTTYPE=image/webp:https://lsbb.org/wp-content/uploads/2026/03/pix-2026-03-11-bmeeting.webp
END:VEVENT
BEGIN:VEVENT
DTSTART;TZID=America/Chicago:20260218T080000
DTEND;TZID=America/Chicago:20260218T090000
DTSTAMP:20260419T105656
CREATED:20260206T134508Z
LAST-MODIFIED:20260206T134508Z
UID:3972-1771401600-1771405200@lsbb.org
SUMMARY:Weekly Meeting - Feb 18
DESCRIPTION:Scheduled: Training
URL:https://lsbb.org/event/weekly-meeting-feb-18/
LOCATION:Rudy’s Country Store and Bar-B-Q\, 1790 N Central Expy\, Allen\, TX\, 75002\, United States
CATEGORIES:Education,Weekly
ATTACH;FMTTYPE=image/webp:https://lsbb.org/wp-content/uploads/2026/02/meeting-at-rudys.webp
END:VEVENT
BEGIN:VEVENT
DTSTART;TZID=America/Chicago:20260211T080000
DTEND;TZID=America/Chicago:20260211T090000
DTSTAMP:20260419T105656
CREATED:20260205T231811Z
LAST-MODIFIED:20260205T231811Z
UID:3969-1770796800-1770800400@lsbb.org
SUMMARY:Weekly Meeting - Feb 11
DESCRIPTION:Training
URL:https://lsbb.org/event/weekly-meeting-feb-11/
LOCATION:Rudy’s Country Store and Bar-B-Q\, 1790 N Central Expy\, Allen\, TX\, 75002\, United States
CATEGORIES:Education,Weekly
ATTACH;FMTTYPE=image/webp:https://lsbb.org/wp-content/uploads/2026/02/IMG_20250611_083116.webp
END:VEVENT
BEGIN:VEVENT
DTSTART;TZID=America/Chicago:20251112T080000
DTEND;TZID=America/Chicago:20251112T090000
DTSTAMP:20260419T105656
CREATED:20251112T131556Z
LAST-MODIFIED:20251112T131556Z
UID:3929-1762934400-1762938000@lsbb.org
SUMMARY:Weekly Meeting - Nov 12
DESCRIPTION:Derrel Allen\, Total Online Marketing\, presents LSBB.org.
URL:https://lsbb.org/event/weekly-meeting-nov-12/
LOCATION:Rudy’s Country Store and Bar-B-Q\, 1790 N Central Expy\, Allen\, TX\, 75002\, United States
CATEGORIES:Education,Weekly
ATTACH;FMTTYPE=image/jpeg:https://lsbb.org/wp-content/uploads/2024/12/IMG_20241120_075525-scaled-e1734624165303.jpg
END:VEVENT
BEGIN:VEVENT
DTSTART;TZID=America/Chicago:20251022T080000
DTEND;TZID=America/Chicago:20251022T090000
DTSTAMP:20260419T105656
CREATED:20251015T122851Z
LAST-MODIFIED:20251015T122957Z
UID:3065-1761120000-1761123600@lsbb.org
SUMMARY:Weekly Meeting - Oct 22
DESCRIPTION:Training Team\nJeromie R & the training team present.
URL:https://lsbb.org/event/weekly-meeting-oct-22/
LOCATION:Rudy’s Country Store and Bar-B-Q\, 1790 N Central Expy\, Allen\, TX\, 75002\, United States
CATEGORIES:Education,Weekly
ATTACH;FMTTYPE=image/jpeg:https://lsbb.org/wp-content/uploads/2024/12/IMG_20241120_080056-scaled-e1734624366825.jpg
END:VEVENT
BEGIN:VEVENT
DTSTART;TZID=America/Chicago:20250924T080000
DTEND;TZID=America/Chicago:20250924T090000
DTSTAMP:20260419T105656
CREATED:20250917T204008Z
LAST-MODIFIED:20250917T204008Z
UID:2090-1758700800-1758704400@lsbb.org
SUMMARY:Weekly Meeting — Sept 24
DESCRIPTION:Safety Training – Jim Barth
URL:https://lsbb.org/event/weekly-meeting-sept-24/
LOCATION:Rudy’s Country Store and Bar-B-Q\, 1790 N Central Expy\, Allen\, TX\, 75002\, United States
CATEGORIES:Education,Weekly
ATTACH;FMTTYPE=image/jpeg:https://lsbb.org/wp-content/uploads/2025/06/meeting-11062025.jpg
END:VEVENT
BEGIN:VEVENT
DTSTART;TZID=America/Chicago:20250813T080000
DTEND;TZID=America/Chicago:20250813T090000
DTSTAMP:20260419T105656
CREATED:20250806T133022Z
LAST-MODIFIED:20250806T133022Z
UID:2070-1755072000-1755075600@lsbb.org
SUMMARY:Weekly Meeting Aug 13
DESCRIPTION:Training
URL:https://lsbb.org/event/weekly-meeting-aug-13/
LOCATION:Rudy’s Country Store and Bar-B-Q\, 1790 N Central Expy\, Allen\, TX\, 75002\, United States
CATEGORIES:Education,Weekly
END:VEVENT
BEGIN:VEVENT
DTSTART;TZID=America/Chicago:20250409T080000
DTEND;TZID=America/Chicago:20250409T090000
DTSTAMP:20260419T105656
CREATED:20250409T150424Z
LAST-MODIFIED:20250409T150424Z
UID:1587-1744185600-1744189200@lsbb.org
SUMMARY:Weekly Meeting Apr 9
DESCRIPTION:
URL:https://lsbb.org/event/weekly-meeting-apr-9/
LOCATION:Rudy’s Country Store and Bar-B-Q\, 1790 N Central Expy\, Allen\, TX\, 75002\, United States
CATEGORIES:Education,Weekly
ATTACH;FMTTYPE=image/jpeg:https://lsbb.org/wp-content/uploads/2025/01/IMG_20250129_080731-scaled.jpg
END:VEVENT
BEGIN:VEVENT
DTSTART;TZID=America/Chicago:20250312T080000
DTEND;TZID=America/Chicago:20250312T090000
DTSTAMP:20260419T105656
CREATED:20250305T163429Z
LAST-MODIFIED:20250306T162330Z
UID:1510-1741766400-1741770000@lsbb.org
SUMMARY:Weekly Meeting Mar 12
DESCRIPTION:Educational meeting after business commercials.
URL:https://lsbb.org/event/2nd-weekly-meeting-mar/
LOCATION:Rudy’s Country Store and Bar-B-Q\, 1790 N Central Expy\, Allen\, TX\, 75002\, United States
CATEGORIES:Education,Weekly
ATTACH;FMTTYPE=image/jpeg:https://lsbb.org/wp-content/uploads/2024/12/IMG_20241120_080056-scaled-e1734624366825.jpg
END:VEVENT
END:VCALENDAR