BEGIN:VCALENDAR
VERSION:2.0
PRODID:-//Lone Star Business Builders - ECPv6.15.20//NONSGML v1.0//EN
CALSCALE:GREGORIAN
METHOD:PUBLISH
X-ORIGINAL-URL:https://lsbb.org
X-WR-CALDESC:Events for Lone Star Business Builders
REFRESH-INTERVAL;VALUE=DURATION:PT1H
X-Robots-Tag:noindex
X-PUBLISHED-TTL:PT1H
BEGIN:VTIMEZONE
TZID:America/Chicago
BEGIN:DAYLIGHT
TZOFFSETFROM:-0600
TZOFFSETTO:-0500
TZNAME:CDT
DTSTART:20240310T080000
END:DAYLIGHT
BEGIN:STANDARD
TZOFFSETFROM:-0500
TZOFFSETTO:-0600
TZNAME:CST
DTSTART:20241103T070000
END:STANDARD
BEGIN:DAYLIGHT
TZOFFSETFROM:-0600
TZOFFSETTO:-0500
TZNAME:CDT
DTSTART:20250309T080000
END:DAYLIGHT
BEGIN:STANDARD
TZOFFSETFROM:-0500
TZOFFSETTO:-0600
TZNAME:CST
DTSTART:20251102T070000
END:STANDARD
BEGIN:DAYLIGHT
TZOFFSETFROM:-0600
TZOFFSETTO:-0500
TZNAME:CDT
DTSTART:20260308T080000
END:DAYLIGHT
BEGIN:STANDARD
TZOFFSETFROM:-0500
TZOFFSETTO:-0600
TZNAME:CST
DTSTART:20261101T070000
END:STANDARD
END:VTIMEZONE
BEGIN:VEVENT
DTSTART;TZID=America/Chicago:20250604T080000
DTEND;TZID=America/Chicago:20250604T090000
DTSTAMP:20260420T014016
CREATED:20250522T124823Z
LAST-MODIFIED:20250522T124823Z
UID:2043-1749024000-1749027600@lsbb.org
SUMMARY:Weekly Meeting June 4
DESCRIPTION:TBD
URL:https://lsbb.org/event/weekly-meeting-june-4/
LOCATION:Rudy’s Country Store and Bar-B-Q\, 1790 N Central Expy\, Allen\, TX\, 75002\, United States
CATEGORIES:Weekly
END:VEVENT
BEGIN:VEVENT
DTSTART;TZID=America/Chicago:20250611T080000
DTEND;TZID=America/Chicago:20250611T090000
DTSTAMP:20260420T014016
CREATED:20250607T203503Z
LAST-MODIFIED:20250607T203503Z
UID:2048-1749628800-1749632400@lsbb.org
SUMMARY:Weekly Meeting June 11
DESCRIPTION:Training
URL:https://lsbb.org/event/weekly-meeting-june-11/
LOCATION:Rudy’s Country Store and Bar-B-Q\, 1790 N Central Expy\, Allen\, TX\, 75002\, United States
CATEGORIES:Weekly
ATTACH;FMTTYPE=image/jpeg:https://lsbb.org/wp-content/uploads/2025/01/IMG_20250129_080749-scaled.jpg
END:VEVENT
BEGIN:VEVENT
DTSTART;TZID=America/Chicago:20250618T080000
DTEND;TZID=America/Chicago:20250618T090000
DTSTAMP:20260420T014016
CREATED:20250611T164650Z
LAST-MODIFIED:20250611T164650Z
UID:2051-1750233600-1750237200@lsbb.org
SUMMARY:Weekly Meeting June 18
DESCRIPTION:Hot seat – Jim Barth
URL:https://lsbb.org/event/weekly-meeting-june-18/
LOCATION:Rudy’s Country Store and Bar-B-Q\, 1790 N Central Expy\, Allen\, TX\, 75002\, United States
CATEGORIES:Hot Seat,Weekly
ATTACH;FMTTYPE=image/jpeg:https://lsbb.org/wp-content/uploads/2025/06/meeting-11062025.jpg
END:VEVENT
END:VCALENDAR