BEGIN:VCALENDAR
VERSION:2.0
PRODID:-//Lone Star Business Builders - ECPv6.15.20//NONSGML v1.0//EN
CALSCALE:GREGORIAN
METHOD:PUBLISH
X-ORIGINAL-URL:https://lsbb.org
X-WR-CALDESC:Events for Lone Star Business Builders
REFRESH-INTERVAL;VALUE=DURATION:PT1H
X-Robots-Tag:noindex
X-PUBLISHED-TTL:PT1H
BEGIN:VTIMEZONE
TZID:America/Chicago
BEGIN:DAYLIGHT
TZOFFSETFROM:-0600
TZOFFSETTO:-0500
TZNAME:CDT
DTSTART:20240310T080000
END:DAYLIGHT
BEGIN:STANDARD
TZOFFSETFROM:-0500
TZOFFSETTO:-0600
TZNAME:CST
DTSTART:20241103T070000
END:STANDARD
BEGIN:DAYLIGHT
TZOFFSETFROM:-0600
TZOFFSETTO:-0500
TZNAME:CDT
DTSTART:20250309T080000
END:DAYLIGHT
BEGIN:STANDARD
TZOFFSETFROM:-0500
TZOFFSETTO:-0600
TZNAME:CST
DTSTART:20251102T070000
END:STANDARD
BEGIN:DAYLIGHT
TZOFFSETFROM:-0600
TZOFFSETTO:-0500
TZNAME:CDT
DTSTART:20260308T080000
END:DAYLIGHT
BEGIN:STANDARD
TZOFFSETFROM:-0500
TZOFFSETTO:-0600
TZNAME:CST
DTSTART:20261101T070000
END:STANDARD
END:VTIMEZONE
BEGIN:VEVENT
DTSTART;TZID=America/Chicago:20250520T180000
DTEND;TZID=America/Chicago:20250520T210000
DTSTAMP:20260420T023438
CREATED:20250520T135211Z
LAST-MODIFIED:20250520T135211Z
UID:2035-1747764000-1747774800@lsbb.org
SUMMARY:2nd Quarter Social 2025
DESCRIPTION:Hey friends\, just a reminder of our quarterly social Tuesday\, May 20 at main event in Allen. We’ll meet up at 6 PM and have a few bowling lanes along with some light appetizers. If you have not already RSVPed to Delilah\, please do so today. Looking forward to seeing everyone tomorrow!
URL:https://lsbb.org/event/2nd-quarter-social-2025/
LOCATION:TX
CATEGORIES:Quarterly Social
ATTACH;FMTTYPE=image/webp:https://lsbb.org/wp-content/uploads/2025/03/2025-1stQtr-Social800x600.webp
END:VEVENT
END:VCALENDAR